BEGIN:VCALENDAR
VERSION:2.0
PRODID:-//EBAA - ECPv6.15.19//NONSGML v1.0//EN
CALSCALE:GREGORIAN
METHOD:PUBLISH
X-WR-CALNAME:EBAA
X-ORIGINAL-URL:https://restoresight.org
X-WR-CALDESC:Events for EBAA
REFRESH-INTERVAL;VALUE=DURATION:PT1H
X-Robots-Tag:noindex
X-PUBLISHED-TTL:PT1H
BEGIN:VTIMEZONE
TZID:America/New_York
BEGIN:DAYLIGHT
TZOFFSETFROM:-0500
TZOFFSETTO:-0400
TZNAME:EDT
DTSTART:20220313T070000
END:DAYLIGHT
BEGIN:STANDARD
TZOFFSETFROM:-0400
TZOFFSETTO:-0500
TZNAME:EST
DTSTART:20221106T060000
END:STANDARD
BEGIN:DAYLIGHT
TZOFFSETFROM:-0500
TZOFFSETTO:-0400
TZNAME:EDT
DTSTART:20230312T070000
END:DAYLIGHT
BEGIN:STANDARD
TZOFFSETFROM:-0400
TZOFFSETTO:-0500
TZNAME:EST
DTSTART:20231105T060000
END:STANDARD
BEGIN:DAYLIGHT
TZOFFSETFROM:-0500
TZOFFSETTO:-0400
TZNAME:EDT
DTSTART:20240310T070000
END:DAYLIGHT
BEGIN:STANDARD
TZOFFSETFROM:-0400
TZOFFSETTO:-0500
TZNAME:EST
DTSTART:20241103T060000
END:STANDARD
END:VTIMEZONE
BEGIN:VEVENT
DTSTART;TZID=America/New_York:20230512T140000
DTEND;TZID=America/New_York:20230512T150000
DTSTAMP:20260420T083843
CREATED:20230412T173603Z
LAST-MODIFIED:20230412T173606Z
UID:23909-1683900000-1683903600@restoresight.org
SUMMARY:Spring 2023 Town Hall
DESCRIPTION:
URL:https://restoresight.org/event/spring-2023-town-hall/
END:VEVENT
BEGIN:VEVENT
DTSTART;TZID=America/New_York:20230518T140000
DTEND;TZID=America/New_York:20230518T150000
DTSTAMP:20260420T083843
CREATED:20230214T171050Z
LAST-MODIFIED:20230420T183101Z
UID:23746-1684418400-1684422000@restoresight.org
SUMMARY:Infectious Disease: Overview and Updates
DESCRIPTION:
URL:https://restoresight.org/event/infectious-disease-overview-and-updates/
END:VEVENT
END:VCALENDAR