BEGIN:VCALENDAR
VERSION:2.0
PRODID:-//EBAA - ECPv6.15.19//NONSGML v1.0//EN
CALSCALE:GREGORIAN
METHOD:PUBLISH
X-WR-CALNAME:EBAA
X-ORIGINAL-URL:https://restoresight.org
X-WR-CALDESC:Events for EBAA
REFRESH-INTERVAL;VALUE=DURATION:PT1H
X-Robots-Tag:noindex
X-PUBLISHED-TTL:PT1H
BEGIN:VTIMEZONE
TZID:America/New_York
BEGIN:DAYLIGHT
TZOFFSETFROM:-0500
TZOFFSETTO:-0400
TZNAME:EDT
DTSTART:20210314T070000
END:DAYLIGHT
BEGIN:STANDARD
TZOFFSETFROM:-0400
TZOFFSETTO:-0500
TZNAME:EST
DTSTART:20211107T060000
END:STANDARD
BEGIN:DAYLIGHT
TZOFFSETFROM:-0500
TZOFFSETTO:-0400
TZNAME:EDT
DTSTART:20220313T070000
END:DAYLIGHT
BEGIN:STANDARD
TZOFFSETFROM:-0400
TZOFFSETTO:-0500
TZNAME:EST
DTSTART:20221106T060000
END:STANDARD
BEGIN:DAYLIGHT
TZOFFSETFROM:-0500
TZOFFSETTO:-0400
TZNAME:EDT
DTSTART:20230312T070000
END:DAYLIGHT
BEGIN:STANDARD
TZOFFSETFROM:-0400
TZOFFSETTO:-0500
TZNAME:EST
DTSTART:20231105T060000
END:STANDARD
END:VTIMEZONE
BEGIN:VEVENT
DTSTART;TZID=America/New_York:20220420T140000
DTEND;TZID=America/New_York:20220420T150000
DTSTAMP:20260419T095856
CREATED:20220410T201918Z
LAST-MODIFIED:20220410T210752Z
UID:21878-1650463200-1650466800@restoresight.org
SUMMARY:Risk Management in Eye Banking: Tools for Identifying and Assessing Risk
DESCRIPTION:Risk management is critical to the safety of a cornea recipient and vital for the success of an eye bank. Ensure your organization is prepared to mitigate potential risks; register for this session today.
URL:https://restoresight.org/event/risk-management-in-eye-banking-tools-for-identifying-and-assessing-risk/
CATEGORIES:Webinar
END:VEVENT
BEGIN:VEVENT
DTSTART;TZID=America/New_York:20220418T140000
DTEND;TZID=America/New_York:20220418T150000
DTSTAMP:20260419T095856
CREATED:20220410T195938Z
LAST-MODIFIED:20220410T210752Z
UID:21874-1650290400-1650294000@restoresight.org
SUMMARY:House of Delegates Town Hall
DESCRIPTION:Register for this complimentary session of the House of Delegates Town Hall to hear from the Board of Directors Candidates and the latest discussions. \n\n\n\nCEUs not awarded for this session. EBAA Members Only.
URL:https://restoresight.org/event/house-of-delegates-town-hall/
CATEGORIES:Webinar
END:VEVENT
BEGIN:VEVENT
DTSTART;TZID=America/New_York:20220325T130000
DTEND;TZID=America/New_York:20220325T140000
DTSTAMP:20260419T095856
CREATED:20220606T181002Z
LAST-MODIFIED:20220606T181002Z
UID:23160-1648213200-1648216800@restoresight.org
SUMMARY:Women's History Month: A Panel of Corneal Surgeon and Eye Banker Trailblazers
DESCRIPTION:
URL:https://restoresight.org/event/womens-history-month-a-panel-of-corneal-surgeon-and-eye-banker-trailblazers/
END:VEVENT
END:VCALENDAR